BEGIN:VCALENDAR
VERSION:2.0
PRODID:-//hacksw/handcal//NONSGML v1.0//EN
BEGIN:VEVENT
UID:3669b8795a522db434c67e380cc3199f
DTSTAMP:20260421T090708Z

DTSTART:20201010T000000
DTEND:20201011T235959
SUMMARY: World Clinical Laser Institute  — WCLI 2020 Asia-Pacific Symposium — October  2020
DESCRIPTION:The World Clinical Laser Institute (WCLI) is more than an educational association of dentists seeking clinical knowledge and tips on the latest technologies in dentistry. The largest group of its kind, the WCLI is a closely-knit network of thousands of dental professionals who share a passion for improving the patient experience, elevating their clinical results to the highest level, and building the best possible practice they can.\nThe WCLI has been putting on world-class educational events for over ten years. At this year’s Asia Pacific Symposium in Dubai, dental professionals will improve their knowledge and techniques for established laser procedures, such as laser-assisted periodontal treatment, endo, implant placement, pain therapy and cosmetic dentistry.\nAbove all else, the WCLI’s 2020 Asia Pacific Symposium is a great place to see old friends, meet new colleagues and forge friendships with mentors from around the world.\n&nbsp;\n\n\nWhen\n\n\nSaturday, October 10, 2020 - Sunday, October 11, 2020\n8:00 AM - 5:00 PM\n\n\n\n\nWhere\n\n\nDubai\nUnited Arab Emirates\n\n

X-ALT-DESC;FMTTYPE=text/html:<!DOCTYPE HTML PUBLIC "-//W3C//DTD HTML 3.2//EN">\n<HTML>\n<HEAD>\n<META NAME="Generator" CONTENT="MS Exchange Server version 08.00.0681.000">\n<TITLE></TITLE>\n</HEAD>\n<BODY>\n<!-- Converted from text/rtf format -->\n\n<p>The World Clinical Laser Institute (WCLI) is more than an educational association of dentists seeking clinical knowledge and tips on the latest technologies in dentistry. The largest group of its kind, the WCLI is a closely-knit network of thousands of dental professionals who share a passion for improving the patient experience, elevating their clinical results to the highest level, and building the best possible practice they can.</p><br /><p>The WCLI has been putting on world-class educational events for over ten years. At this year’s Asia Pacific Symposium in Dubai, dental professionals will improve their knowledge and techniques for established laser procedures, such as laser-assisted periodontal treatment, endo, implant placement, pain therapy and cosmetic dentistry.</p><br /><p>Above all else, the WCLI’s 2020 Asia Pacific Symposium is a great place to see old friends, meet new colleagues and forge friendships with mentors from around the world.</p><br /><p>&nbsp;</p><br /><ul class="details"><br /><li><br /><h3>When</h3><br /></li><br /><li><br /><p>Saturday, October 10, 2020 - Sunday, October 11, 2020<br />8:00 AM - 5:00 PM</p><br /></li><br /></ul><br /><ul class="details"><br /><li><br /><h3>Where</h3><br /></li><br /><li><br /><p>Dubai<br />United Arab Emirates</p><br /></li><br /></ul>\n\n</BODY>\n</HTML>

LOCATION:
END:VEVENT

END:VCALENDAR
