BEGIN:VCALENDAR
VERSION:2.0
PRODID:-//hacksw/handcal//NONSGML v1.0//EN
BEGIN:VEVENT
UID:7bf1e003997a07f97af96f1a573efb22
DTSTAMP:20260421T065755Z

DTSTART:20200522T000000
DTEND:20200523T235959
SUMMARY:2020 Dental Expo - Greenlane Auckland - New Zealand
DESCRIPTION:Venue\nASB Showgrounds\n217 Greenlane West\nEpsom, Auckland\n&nbsp;\nSAVE THE DATE:\nDental Expo 2020 will be held at the&nbsp;ASB Showgrounds, Auckland – 22-23 May 2020.\n\nThe Expo will be open for two days and free to visit for all dental professionals.\n\nIf you'd like to stay informed regarding Dental Expo, simply enter your details by clicking&nbsp;HERE\n\nWe look forward to seeing you in Auckland in 2020.\n\nWarm regards\nThe Dental Expo Team

X-ALT-DESC;FMTTYPE=text/html:<!DOCTYPE HTML PUBLIC "-//W3C//DTD HTML 3.2//EN">\n<HTML>\n<HEAD>\n<META NAME="Generator" CONTENT="MS Exchange Server version 08.00.0681.000">\n<TITLE></TITLE>\n</HEAD>\n<BODY>\n<!-- Converted from text/rtf format -->\n\n<h2>Venue</h2><br /><p><strong>ASB Showgrounds</strong><br />217 Greenlane West<br />Epsom, Auckland</p><br /><p>&nbsp;</p><br /><p><strong>SAVE THE DATE:</strong><br />Dental Expo 2020 will be held at the&nbsp;<strong>ASB Showgrounds, Auckland – 22-23 May 2020</strong>.<br /><br />The Expo will be open for two days and free to visit for all dental professionals.<br /><br />If you'd like to stay informed regarding Dental Expo, simply enter your details by clicking&nbsp;<a href="http://dentalexpo.co.nz/Contact/6782/" target="_blank" rel="noopener">HERE</a><br /><br />We look forward to seeing you in Auckland in 2020.<br /><br />Warm regards<br /><strong>The Dental Expo Team</strong></p>\n\n</BODY>\n</HTML>

LOCATION:
END:VEVENT

END:VCALENDAR
