BEGIN:VCALENDAR
VERSION:2.0
PRODID:-//hacksw/handcal//NONSGML v1.0//EN
BEGIN:VEVENT
UID:fdb7cef335bcd5a6032880cf5c7d373e
DTSTAMP:20260421T065007Z

DTSTART:20200424T000000
DTEND:20200426T235959
SUMMARY:IDEM 2020 - Singapore Suntec 
DESCRIPTION:IDEM 2020 - Singapore\nConference &amp; Workshops &amp; Trade exhibition\nDate: 24 - 26 April 2020\nVenue: Suntec Singapore Convention &amp; Exhibition Centre , 1 Raffles Blvd, Singapore 039593\n\n\n&nbsp;\nInternational Dental Exhibition and Meeting Singapore (IDEM) is the foremost dental trade and knowledge-sharing platform in Asia Pacific. IDEM Singapore delivers the latest international technologies and techniques via a powerful combination of international trade exhibition and cutting-edge scientific conference. \n\nAs the leading trade and continual education platform in the Asia Pacific, IDEM Singapore offers an unrivalled opportunity to reach out to the dental fraternity in the region. Now in its seventh edition, the event has been gaining prominence with each successful staging. Complementing the largest exhibition to date, the\nscientific congress will present a full program for dental practitioners which\nwill be delivered by leading international experts.\n\nIDEM Singapore is organized by Koelnmesse and the Singapore Dental Association.

X-ALT-DESC;FMTTYPE=text/html:<!DOCTYPE HTML PUBLIC "-//W3C//DTD HTML 3.2//EN">\n<HTML>\n<HEAD>\n<META NAME="Generator" CONTENT="MS Exchange Server version 08.00.0681.000">\n<TITLE></TITLE>\n</HEAD>\n<BODY>\n<!-- Converted from text/rtf format -->\n\n<p><span style="font-size: 14pt;"><strong>IDEM 2020 - Singapore</strong></span><br /><span style="font-size: 14pt;">Conference &amp; Workshops &amp; Trade exhibition</span><br /><span style="font-size: 14pt;">Date: 24 - 26 April 2020</span><br /><span style="font-size: 14pt;">Venue: Suntec Singapore Convention &amp; Exhibition Centre , 1 Raffles Blvd, Singapore 039593</span><br /><br /></p><br /><p>&nbsp;</p><br /><p><span style="font-size: 14pt;"><strong>International Dental Exhibition and Meeting Singapore (IDEM)</strong> is the foremost dental trade and knowledge-sharing platform in Asia Pacific. IDEM Singapore delivers the latest international technologies and techniques via a powerful combination of international trade exhibition and cutting-edge scientific conference. </span><br /><br /><span style="font-size: 14pt;">As the leading trade and continual education platform in the Asia Pacific, IDEM Singapore offers an unrivalled opportunity to reach out to the dental fraternity in the region. Now in its seventh edition, the event has been gaining prominence with each successful staging. Complementing the largest exhibition to date, the</span><br /><span style="font-size: 14pt;">scientific congress will present a full program for dental practitioners which</span><br /><span style="font-size: 14pt;">will be delivered by leading international experts.</span><br /><br /><span style="font-size: 14pt;">IDEM Singapore is organized by Koelnmesse and the Singapore Dental Association.</span></p>\n\n</BODY>\n</HTML>

LOCATION:
END:VEVENT

END:VCALENDAR
