BEGIN:VCALENDAR
VERSION:2.0
PRODID:-//hacksw/handcal//NONSGML v1.0//EN
BEGIN:VEVENT
UID:0557468283fe7a8e727ccdd1dfb46a6e
DTSTAMP:20260421T090415Z

DTSTART:20180126T000000
DTEND:20180128T235959
SUMMARY:25th MDA Scientific Convention & Trade Exhibition
DESCRIPTION:Venue: Putra World Trade Centre (PWTC), Kuala Lumpur\n \n 

X-ALT-DESC;FMTTYPE=text/html:<!DOCTYPE HTML PUBLIC "-//W3C//DTD HTML 3.2//EN">\n<HTML>\n<HEAD>\n<META NAME="Generator" CONTENT="MS Exchange Server version 08.00.0681.000">\n<TITLE></TITLE>\n</HEAD>\n<BODY>\n<!-- Converted from text/rtf format -->\n\n<p><strong>Venue: Putra World Trade Centre (PWTC), Kuala Lumpur</strong></p><br /><p> </p><br /><p> </p>\n\n</BODY>\n</HTML>

LOCATION:
END:VEVENT

END:VCALENDAR
